BEGIN:VCALENDAR
METHOD:PUBLISH
VERSION:2.0
PRODID:-//hacksw/handcal//NONSGML v1.0//EN
BEGIN:VEVENT
DTSTAMP:20260421T180600
DTSTART:20121014T183000
DTEND:20121014T193000
UID:20121014T183000-20121014T193000-94@fhfnyc.org
SUMMARY:"Special Needs Mass"
DESCRIPTION:Sun, Oct. 14, 2012 -- 2:30 PM to 3:30 PMSt. Thomas Church, 50 Maguire Avenue, Staten Island, NY 10309&nbsp;&nbsp;&nbsp;&nbsp;St. Thomas Church is having a "special needs mass" and tell us that "it’s a wonderful mass to attend with music and only lasts about 30 minutes. All are welcome for refreshments after the mass for coffee, drinks and cookies."  They offer gluten-free wafers.&#160;There's a flyer in PowerPoint format (here is a PDF version).&nbsp;&nbsp;DIRECTIONS (enter your address and click "Get Directions"): &nbsp;Event Categories:  Non-FHF Event, Community Meetings&nbsp;Click ICAL or  Google Calendar to add this event to your calendar.&nbsp;
URL:http://fhfnyc.org/eme-events/94/special-needs-mass/
ATTACH:http://fhfnyc.org/eme-events/94/special-needs-mass/
LOCATION:St. Thomas Church, 50 Maguire Avenue, Staten Island, NY 10309
END:VEVENT
END:VCALENDAR
