BEGIN:VCALENDAR
METHOD:PUBLISH
VERSION:2.0
PRODID:-//hacksw/handcal//NONSGML v1.0//EN
BEGIN:VEVENT
DTSTAMP:20260421T210824
DTSTART:20150627T150000
DTEND:20150627T203000
UID:20150627T150000-20150627T203000-1646@fhfnyc.org
SUMMARY:VOLUNTEERS REGISTER HERE for June 27, 2015 School's Out for Summer Party
DESCRIPTION:Sat, Jun. 27, 2015 -- 11:00 AM to 4:30 PMHilton Garden Inn, 1100 South Avenue, Staten Island, NY 10314&nbsp;&nbsp;&nbsp;&nbsp;Scroll down for event details, or Book Yourself:         0.00 each  Pay by credit card through the Paypal link on the next page; no account required.  Volunteers never pay.  ( Issues in registering or paying?  Please let us know at (718) 227-2171 or fhf@fhfnyc.org )&nbsp; High School and College Student Volunteers Needed It's easy to register with the above form.Tell us your name, e-mail address, and school currently attending. Each volunteer must be registered individually.SAVE THE DATE: JUNE 27, 2015Join us and you can make a difference in the day of a special needs child.Bring a friend and you both can earn school service credits and have a great time too.Help FHF start off Summer 2015. You don’t want to miss this.&#160;Families Helping Families Presents our5th Annual “School’s Out for Summer” Party!At the Hilton Garden Inn, Staten Island1100 South Ave, Staten Island, NY, 10314June 27, 2015 11 AM to 4:30 PM (for volunteers)For special needs children and their families and friends.Last year’s party was absolutely fabulous.High School and College Volunteers use the form to register for the School's Out for Summer Party.  Wear neat, appropriate, comfortable clothing.Thanks for making a difference in the life of a special needs child.  FHF needs your help.Hope to see you at the Staten Island Hilton on June 27th.Photographs may be taken at this event. Please inform FHF if you do not want photos taken of you or a family member.&#160;Families Helping Families5th Annual "School's Out for Summer" Partyfor special needs children and their families and friends&nbsp;&nbsp;DIRECTIONS (enter your address and click "Get Directions"): &nbsp;Event Categories:  FHF Family Fun, FHF Activities, FHF Recreational Programs, Important FHF&nbsp;Event Contact: FHF Staff, fhf@fhfnyc.org, &#40;&#55;&#49;&#56;&#41;&#32;&#50;&#50;&#55;&#45;&#50;&#49;&#55;&#49;&nbsp;Click ICAL or  Google Calendar to add this event to your calendar.&nbsp;
URL:http://fhfnyc.org/eme-events/1646/volunteers-register-here-for-june-27-2015-schools-out-for-summer-party/
ATTACH:http://fhfnyc.org/eme-events/1646/volunteers-register-here-for-june-27-2015-schools-out-for-summer-party/
LOCATION:Hilton Garden Inn, 1100 South Avenue, Staten Island, NY 10314
END:VEVENT
END:VCALENDAR
