BEGIN:VCALENDAR
METHOD:PUBLISH
VERSION:2.0
PRODID:-//hacksw/handcal//NONSGML v1.0//EN
BEGIN:VEVENT
DTSTAMP:20260421T180558
DTSTART:20140407T133000
DTEND:20140407T153000
UID:20140407T133000-20140407T153000-1591@fhfnyc.org
SUMMARY:CANCLED!
DESCRIPTION:Mon, Apr. 7, 2014 -- 09:30 AM to 11:30 AMStaten Island University Hospital (SIUH), 1st Floor Main Conference Room, South Campus, 375 Seguine Avenue, Staten Island, NY 10309&nbsp;&nbsp;&nbsp;&nbsp;Families Helping Families (FHF) presents:Monthly Special Education Workshop and Strategy SessionLearn everything you ever wanted to know about helping your special needs child!Special Ed Law - Learn the law and how to access the services available, so you can be the best advocate for your child.Your Rights- They're your child’s rights! Learn how to protect them!Educate yourself- Allow us to translate the acronym ridden and mystical world of the DOE and IEP development into straight talk.Parenting Tips - Learn strategies to implement in your home that will support your child’s learning, independence and behavioral development.  Discover the path to your child's success!This workshop will target all aspects of the public school special education system from Turning Five to Transition. The workshop will cover all federal and local laws governing special education. You will learn all of your rights and entitlements as a parent of a special education student.WHEN: The First Monday of Every Month!9:30 AM to 11:30 AMJoin us and learn:	Education Law and your rights	The Turning Five process	What a Functional Behavioral Assessment is and if your child needs one	What a Behavioral Intervention Plan is and if your child needs one	How to lay a foundation for appropriate service recommendations	How to get an ASD program screening	The criteria for a Para, CTT, general education with supports, self-contained, etc. for kindergarten	What the least restrictive environment is and what supports are available.	The differences between District 75 versus the Community School DistrictThese workshops will be held at:Staten Island University Hospital (SIUH)1st Floor Main Conference Room, South Campus375 Seguine AvenueStaten Island, NY 10309Cost $10 per person per workshop, non refundable.Light refreshments providedTo attend you must register at fhf@fhfnyc.org BY E-MAIL OR VIA OUR WEB SITE AT FHFNYC.ORGSpace Is LimitedFor additional information please email or call the FHF office 718-227-2171Brought to you by:Andrea Anna Lella CEO &#38; Program DirectorFamilies Helping Families Resource and Recreation Center“We Believe In Angels”www.fhfnyc.org&nbsp;&nbsp;DIRECTIONS (enter your address and click "Get Directions"): &nbsp;Event Categories:  FHF Education, FHF Workshops, Important FHF&nbsp;Event Contact: FHF Staff, fhf@fhfnyc.org, &#40;&#55;&#49;&#56;&#41;&#32;&#50;&#50;&#55;&#45;&#50;&#49;&#55;&#49;&nbsp;Click ICAL or  Google Calendar to add this event to your calendar.&nbsp;
URL:http://fhfnyc.org/eme-events/1591/monthly-special-education-workshop-and-strategy-session-day-session/
ATTACH:http://fhfnyc.org/eme-events/1591/monthly-special-education-workshop-and-strategy-session-day-session/
LOCATION:Staten Island University Hospital (SIUH), 1st Floor Main Conference Room, South Campus, 375 Seguine Avenue, Staten Island, NY 10309
END:VEVENT
END:VCALENDAR
