BEGIN:VCALENDAR
METHOD:PUBLISH
VERSION:2.0
PRODID:-//hacksw/handcal//NONSGML v1.0//EN
BEGIN:VEVENT
DTSTAMP:20260421T180558
DTSTART:20140110T000000
DTEND:20140110T020000
UID:20140110T000000-20140110T020000-1571@fhfnyc.org
SUMMARY:FHF Turning 5 Workshop
DESCRIPTION:Fri, Jan. 10, 2014 -- 7:00 PM to 9:00 PMStaten Island University Hospital (SIUH) 1st Floor Board Room, South Campus, 375 Seguine Avenue, Staten Island, NY 10309&nbsp;&nbsp;&nbsp;&nbsp;Scroll down for event details, or Book Yourself:         10.00 each  Pay by credit card through the Paypal link on the next page; no account required.  Volunteers never pay.  ( Issues in registering or paying?  Please let us know at (718) 227-2171 or fhf@fhfnyc.org )&nbsp; Families Helping Families (FHF) presents:Turning 5 Workshop This workshop is guaranteed to teach you more about the turning five process than any other workshop you will attend!Educational Consultants &#38; Child AdvocatesAttend the Families Helping Families (FHF) Turning 5 Workshop Series:January 9, 2014 at 7 PM - 9 PMJoin us and learn: 	Education Law and your rights	The Turning Five process	How to lay a foundation for appropriate service recommendations	How to get an ASD program screening	Learn the criteria for a Para, CTT, general education with supports, self-contained, etc. for kindergarten	Learn how to maintain your child’s current level of related services (Speech, OT, PT, etc.) for kindergarten	Find out about the least restrictive environment and what supports are available	Understand the differences between District 75 versus the Community School DistrictThis workshop will be held at:Staten Island University Hospital (SIUH)1st Floor Board Room, South Campus375 Seguine AvenueStaten Island, NY 10309Cost $10 per person per workshopLight refreshments providedTo attend you must register at fhf@fhfnyc.org BY E-MAIL OR VIA OUR WEB SITE AT FHFNYC.ORGSpace Is LimitedFor additional information please email or call the FHF office 718-227-2171Brought to you by:Andrea Anna Lella CEO &#38; Program DirectorFamilies Helping Families Resource and Recreation Center“We Believe In Angels”www.fhfnyc.org&nbsp;&nbsp;DIRECTIONS (enter your address and click "Get Directions"): &nbsp;Event Categories:  FHF Activities, FHF Workshops, Important FHF&nbsp;Event Contact: FHF Staff, fhf@fhfnyc.org, &#40;&#55;&#49;&#56;&#41;&#32;&#50;&#50;&#55;&#45;&#50;&#49;&#55;&#49;&nbsp;Click ICAL or  Google Calendar to add this event to your calendar.&nbsp;
URL:http://fhfnyc.org/eme-events/1571/fhf-turning-5-workshop/
ATTACH:http://fhfnyc.org/eme-events/1571/fhf-turning-5-workshop/
LOCATION:Staten Island University Hospital (SIUH) 1st Floor Board Room, South Campus, 375 Seguine Avenue, Staten Island, NY 10309
END:VEVENT
END:VCALENDAR
